Workbook

Sheet Notas a los Edos Financieros
A1: Municipio de Chihuahua
A2: Notas de Desglose
A3: Del 01 de enero al 30 de septiembre de 2026
A4: (Cifras en Pesos)
A5: NOTAS | B5: DESCRIPCIÓN
B8: ESTADO DE ACTIVIDADES
A9: EA-01 | B9: INGRESOS Y OTROS BENEFICIOS
A10: EA-02 | B10: GASTOS Y OTRAS PERDIDAS
B11: ESTADO DE SITUACIÓN FINANCIERA
A12: ESF-01 | B12: FONDOS CON AFECTACIÓN ESPECÍFICA E INVERSIONES FINANCIERAS
A13: ESF-02 | B13: CONTRIBUCIONES POR RECUPERAR
A14: ESF-03 | B14: CONTRIBUCIONES POR RECUPERAR CORTO PLAZO
A15: ESF-04 | B15: BIENES DISPONIBLES PARA SU TRANSFORMACIÓN ESTIMACIONES Y DETERIOROS (INVENTARIOS)
A16: ESF-05 | B16: ALMACENES
A17: ESF-06 | B17: FIDEICOMISOS, MANDATOS Y CONTRATOS ANÁLOGOS
A18: ESF-07 | B18: PARTICIPACIONES Y APORTACIONES DE CAPITAL
A19: ESF-08 | B19: BIENES MUEBLES E INMUEBLES
A20: ESF-09 | B20: INTANGIBLES Y DIFERIDOS
A21: ESF-10 | B21: ESTIMACIONES Y DETERIOROS
A22: ESF-11 | B22: OTROS ACTIVOS
A23: ESF-12 | B23: CUENTAS Y DOCUMENTOS POR PAGAR
... A27: ESF-16 | B27: OTROS PASIVOS
B28: ESTADO DE VARIACIÓN EN LA HACIENDA PÚBLICA
A29: EVHP-01 | B29: PATRIMONIO CONTRIBUIDO
A30: EVHP-02 | B30: PATRIMONIO GENERADO
B31: ESTADO DE FLUJOS DE EFECTIVO
A32: EFE-01 | B32: EFECTIVO Y EQUIVALENTES
A33: EFE-02 | B33: ADQ. DE ACT. DE INVERSIÓN EFECTIVAMENTE PAGADAS
A34: EFE-03 | B34: CONCILIACION DE FLUJOS DE EFECTIVO NETOS
A37: CIPC | B37: CONCILIACIÓN ENTRE LOS INGRESOS PRESUPUESTARIOS Y CONTABLES
A38: CEPC | B38: CONCILIACIÓN ENTRE LOS EGRESOS PRESUPUESTARIOS Y LOS GASTOS CONTABLES
A43: “Bajo protesta de decir verdad declaramos que los Estados Financieros y sus notas, son razonablemente correctos y son responsabilidad del emisor.”
A45: PRESIDENTE MUNICIPAL
A51: _______________________________________________
A52: LIC. MARCO ANTONIO BONILLA MENDOZA
A55: TESORERA MUNICIPAL
A60: _____________________________________________
A61: MTRA. AÍDA AMANDA CÓRDOVA CHÁVEZ
A64: REGIDOR PRESIDENTE
A65: COMISIÓN DE HACIENDA Y PLANEACIÓN
...

Sheet EA
A1: Municipio de Chihuahua
A2: Notas de Desglose Estado de Actividades
A3: ='Notas a los Edos Financieros'!A3 -> Del 01 de enero al 30 de septiembre de 2026
A4: (Cifras en Pesos)
A5: Notas
A7: EA-01 INGRESOS y OTROS BENEFICIOS
A8: Cuenta | B8: Nombre de la Cuenta | C8: Monto | D8: % | E8: Caracteristicas
A9: 4000 | B9: INGRESOS Y OTROS BENEFICIOS | C9: =C10+C57+C69 -> 5.9501233e+09
A10: 4100 | B10: INGRESOS DE GESTION | C10: =+C11+C21+C27+C30+C36+C39+C48 -> 2.9196083e+09
A11: 4110 | B11: Impuestos | C11: =SUM(C12:C20) -> 2.1595582e+09 | D11: =SUM(D12:D20) -> 1
A12: 4111 | B12: Impuestos Sobre los Ingresos | C12: 0 | D12: =C12/$C$11 -> 0
A13: 4112 | B13: Impuestos Sobre el Patrimonio | C13: 1.9746276e+09 | D13: =C13/$C$11 -> 0.91436646 | E13: Se compone principalmente por el impuesto predial y el de traslación de dominio
A14: 4113 | B14: Impuestos Sobre la Producción, el Consumo y las Transacciones | C14: 0 | D14: =C14/$C$11 -> 0
A15: 4114 | B15: Impuestos al Comercio Exterior | C15: 0 | D15: =C15/$C$11 -> 0
A16: 4115 | B16: Impuestos Sobre Nóminas y Asimilables | C16: 0 | D16: =C16/$C$11 -> 0
A17: 4116 | B17: Impuestos Ecológicos | C17: 0 | D17: =C17/$C$11 -> 0
A18: 4117 | B18: Accesorios de Impuestos | C18: 1.7683532e+08 | D18: =C18/$C$11 -> 0.081884949
A19: 4118 | B19: Impuestos no Comprendidos en la Ley de Ingresos Vigente, Causados en Ejercicios Fiscales Anteriores Pendientes de Liquidación o Pago | C19: 0 | D19: =C19/$C$11 -> 0
A20: 4119 | B20: Otros Impuestos | C20: 8095310 | D20: =C20/$C$11 -> 0.0037485954
A21: 4120 | B21: Cuotas y Aportaciones de Seguridad Social | C21: =SUM(C22:C26) -> 0 | D21: =SUM(D22:D26) -> 0
A22: 4121 | B22: Aportaciones para Fondos de Vivienda | C22: 0 | D22: =IFERROR(C22/$C$9,"") -> 0
A23: 4122 | B23: Cuotas para la Seguridad Social | C23: 0 | D23: =IFERROR(C23/$C$9,"") -> 0
A24: 4123 | B24: Cuotas de Ahorro para el Retiro | C24: 0 | D24: =IFERROR(C24/$C$9,"") -> 0
A25: 4124 | B25: Accesorios de Cuotas y Aportaciones de Seguridad Social | C25: 0 | D25: =IFERROR(C25/$C$9,"") -> 0
A26: 4129 | B26: Otras Cuotas y Aportaciones para la Seguridad Social | C26: 0 | D26: =IFERROR(C26/$C$9,"") -> 0
A27: 4130 | B27: Contribuciones de Mejoras | C27: =SUM(C28:C29) -> 1.1112985e+08 | D27: =SUM(D28:D29) -> 1
A28: 4131 | B28: Contribuciones de Mejoras por Obras Públicas | C28: 1.1112985e+08 | D28: =C28/C27 -> 1
A29: 4132 | B29: Contribuciones de Mejoras no Comprendidas en la Ley de Ingresos Vigente, Causadas en Ejercicios Fiscales Anteriores Pendientes de Liquidación o Pago | C29: 0 | D29: =IFERROR(C29/$C$9,"") -> 0
A30: 4140 | B30: Derechos | C30: =SUM(C31:C35) -> 5.6203024e+08 | D30: =SUM(D31:D35) -> 1
A31: 4141 | B31: Derechos por el Uso, Goce, Aprovechamiento o Explotación de Bienes de Dominio Público | C31: 5530543.8 | D31: =C31/$C$30 -> 0.0098402958
A32: 4143 | B32: Derechos por Prestación de Servicios | C32: 5.564997e+08 | D32: =C32/$C$30 -> 0.9901597
A33: 4144 | B33: Accesorios de Derechos | C33: 0 | D33: =C33/$C$30 -> 0
A34: 4145 | B34: Derechos no Comprendidos en la Ley de Ingresos Vigente, Causados en Ejercicios Fiscales Anteriores Pendientes de Liquidación o Pago | C34: 0 | D34: =C34/$C$30 -> 0
A35: 4149 | B35: Otros Derechos | C35: 0 | D35: =C35/$C$30 -> 0
A36: 4150 | B36: Productos | C36: =SUM(C37:C38) -> 54615599 | D36: =SUM(D37:D38) -> 1
A37: 4151 | B37: Productos Derivados del Uso y Aprovechamiento de Bienes no Sujetos a Régimen de Dominio Publico | C37: 28569736 | D37: =C37/$C$36 -> 0.5231058
A38: 4153 | B38: Accesorios de Productos | C38: 26045862 | D38: =C38/$C$36 -> 0.4768942
A39: 4160 | B39: Aprovechamientos | C39: =SUM(C40:C47) -> 32274399 | D39: =SUM(D40:D47) -> 1
A40: 4161 | B40: Incentivos Derivados de la Colaboración Fiscal | C40: 576186.69 | D40: =C40/$C$39 -> 0.017852747
A41: 4162 | B41: Multas | C41: 0 | D41: =C41/$C$39 -> 0
...

Sheet ESF
A1: Municipio de Chihuahua
A2: Notas de Desglose Estado de Situación Financiera
A3: ='Notas a los Edos Financieros'!A3 -> Del 01 de enero al 30 de septiembre de 2026
A4: (Cifras en Pesos)
A5: Notas
A7: ESF-01 FONDOS CON AFECTACIÓN ESPECÍFICA E INVERSIONES FINANCIERAS
A8: Cuenta | B8: Nombre de la Cuenta | C8: Monto | D8: Tipo
A9: 1114 | B9: Inversiones Temporales (Hasta 3 meses) | C9: 2.1049641e+08 | D9: Mesa de Dinero
A10: 1115 | B10: Fondos con Afectación Específica | C10: 0
A11: 1121 | B11: Inversiones Financieras de Corto Plazo | C11: 0
A13: ESF-02 CONTRIBUCIONES POR RECUPERAR
A14: Cuenta | B14: Nombre de la Cuenta | C14: Monto | D14: =H1-1 -> -1 | E14: =D14-1 -> -2 | F14: =E14-1 -> -3 | G14: =F14-1 -> -4 | H14: Factibilidad de Cobro
A15: 1122 | B15: Cuentas por Cobrar a Corto Plazo | C15: 0 | D15: 0 | E15: 0 | F15: 0 | G15: 0
A16: 1124 | B16: Ingresos por Recuperar a Corto Plazo | C16: 0 | D16: 0 | E16: 0 | F16: 0 | G16: 0
A18: ESF-03 CONTRIBUCIONES POR RECUPERAR CORTO PLAZO
A19: Cuenta | B19: Nombre de la Cuenta | C19: Monto | D19: A 90 Días | E19: A 180 Días | F19: A 365 Días | G19: + 365 Días | H19: Característica
A20: 1123 | B20: Deudores Diversos por Cobrar a Corto Plazo | C20: 201751.77 | D20: =C20 -> 201751.77 | E20: 0 | F20: 0 | G20: 0
A21: 1125 | B21: Deudores por Anticipos de la Tesorería a Corto Plazo | C21: 3.0114178e+08 | D21: =C21 -> 3.0114178e+08 | E21: 0 | F21: 0 | G21: 0
A22: 1126 | B22: Préstamos Otorgados a Corto Plazo | C22: 0 | D22: =C22 -> 0 | E22: 0 | F22: 0 | G22: 0
A23: 1129 | B23: Otros Derechos a Recibir Efectivo o Equivalentes a Corto Plazo | C23: 0 | D23: =C23 -> 0 | E23: 0 | F23: 0 | G23: 0
A24: 1131 | B24: Anticipo a Proveedores por Adquisición de Bienes y Prestación de Servicios a Corto Plazo | C24: 0 | D24: =C24 -> 0 | E24: 0 | F24: 0 | G24: 0
A25: 1132 | B25: Anticipo a Proveedores por Adquisición de Bienes Inmuebles y Muebles a Corto Plazo | C25: 0 | D25: =C25 -> 0 | E25: 0 | F25: 0 | G25: 0
A26: 1133 | B26: Anticipo a Proveedores por Adquisición de Bienes Intangibles a Corto Plazo | C26: 0 | D26: =C26 -> 0 | E26: 0 | F26: 0 | G26: 0
A27: 1134 | B27: Anticipo a Contratistas por Obras Públicas a Corto Plazo | C27: 1.7645681e+08 | D27: =C27 -> 1.7645681e+08 | E27: 0 | F27: 0 | G27: 0
A28: 1139 | B28: Otros Derechos a Recibir Bienes o Servicios a Corto Plazo | C28: 0 | D28: =C28 -> 0 | E28: 0 | F28: 0 | G28: 0
A30: ESF-04 BIENES DISPONIBLES PARA SU TRANSFORMACIÓN ESTIMACIONES Y DETERIOROS (INVENTARIOS)
A31: Cuenta | B31: Nombre de la Cuenta | C31: Monto | D31: Sistema de Costeo | E31: Método de Valuación | F31: Impacto de Información Financiera
A32: 1140 | B32: Inventarios | C32: 0
A33: 1141 | B33: Inventario de Mercancías para Venta | C33: 0
A34: 1142 | B34: Inventario de Mercancías Terminadas | C34: 0
A35: 1143 | B35: Inventario de Mercancías en Proceso de Elaboración | C35: 0
A36: 1144 | B36: Inventario de Materias Primas, Materiales y Suministros para Producción | C36: 0
A37: 1145 | B37: Bienes en Tránsito | C37: 0
A39: ESF-05 ALMACENES
A40: Cuenta | B40: Nombre de la Cuenta | C40: Monto | D40: Método de Valuación | E40: Conveniencia de Aplicación | F40: Impacto de Información Financiera
A41: 1150 | B41: Almacenes | C41: =C42 -> 17547872 | D41: Peps
A42: 1151 | B42: Almacén de Materiales y Suministros de Consumo | C42: 17547872 | D42: Peps
A44: ESF-06 FIDEICOMISOS, MANDATOS Y CONTRATOS ANÁLOGOS
A45: Cuenta | B45: Nombre de la Cuenta | C45: Monto | D45: Tipo | E45: Característica
A46: 1213 | B46: Fideicomisos, Mandatos y Contratos Análogos | C46: 0
...

Sheet EVHP
A1: Municipio de Chihuahua
A2: Notas de Desglose Estado de Variación en la Hacienda Pública
A3: ='Notas a los Edos Financieros'!A3 -> Del 01 de enero al 30 de septiembre de 2026
A4: (Cifras en Pesos)
A5: Notas
A7: EVHP-01 PATRIMONIO CONTRIBUIDO
A8: Cuenta | B8: Nombre de la Cuenta | C8: Monto | D8: Tipo | E8: Naturaleza
A9: 3110 | B9: Aportaciones | C9: 0
A10: 3120 | B10: Donaciones de Capital | C10: 4.6751047e+09
A11: 3130 | B11: Actualización de la Hacienda Pública/Patrimonio | C11: 0
A13: EVHP-02 PATRIMONIO GENERADO
A14: Cuenta | B14: Nombre de la Cuenta | C14: Monto | D14: Procedencia
A15: 3210 | B15: Resultado del Ejercicio (Ahorro/ Desahorro) | C15: 9.7722336e+08
A16: 3220 | B16: Resultados de Ejercicios Anteriores | C16: -2.0407005e+08
A17: 3230 | B17: Revalúos | C17: 0
A18: 3231 | B18: Revalúo de Bienes Inmuebles | C18: 0
A19: 3232 | B19: Revalúo de Bienes Muebles | C19: 0
A20: 3233 | B20: Revalúo de Bienes Intangibles | C20: 0
A21: 3239 | B21: Otros Revalúos | C21: 0
A22: 3240 | B22: Reservas | C22: 0
A23: 3241 | B23: Reservas de Patrimonio | C23: 0
A24: 3242 | B24: Reservas Territoriales | C24: 0
A25: 3243 | B25: Reservas por Contingencias | C25: 0
A26: 3250 | B26: Rectificaciones de Resultados de Ejercicios Anteriores | C26: 5.259613e+08
... A29: 3253 | B29: Cambios en Estimaciones Contables | C29: 0
B31: “Bajo protesta de decir verdad declaramos que los Estados Financieros y sus notas, son razonablemente correctos y son responsabilidad del emisor.”

Sheet EFE
A1: Municipio de Chihuahua
A2: Notas de Desglose Estado de Flujos de Efectivo
A3: ='Notas a los Edos Financieros'!A3 -> Del 01 de enero al 30 de septiembre de 2026
A4: (Cifras en Pesos)
A5: Notas
A7: EFE-01 EFECTIVO Y EQUIVALENTES
A8: Cuenta | B8: Nombre de la Cuenta | C8: 2026 | D8: 2025
A9: 1111 | B9: Efectivo | C9: 1187550 | D9: 1152550
A10: 1112 | B10: Bancos/Tesorería | C10: 4.8968261e+08 | D10: 2.4813608e+08
A11: 1113 | B11: Bancos/Dependencias y Otros | C11: 0 | D11: 0
A12: 1114 | B12: Inversiones Temporales (Hasta 3 meses) | C12: 2.1049641e+08 | D12: 65697316
A13: 1115 | B13: Fondos con Afectación Específica | C13: 0 | D13: 0
A14: 1116 | B14: Depósitos de Fondos de Terceros en Garantía y/o Administración | C14: 0 | D14: 0
A15: 1119 | B15: Otros Efectivos y Equivalentes | C15: 0 | D15: 0
A16: 1110 | B16: Total de Efectivo y Equivalentes | C16: =+SUM(C9:C15) -> 7.0136657e+08 | D16: =+SUM(D9:D15) -> 3.1498594e+08
A19: EFE-02 ADQ. DE ACT. DE INVERSIÓN EFECTIVAMENTE PAGADAS
A20: Cuenta | B20: Nombre de la Cuenta | C20: 2026 | D20: 2025
A21: 1230 | B21: Bienes Inmuebles, Infraestructura y Construcciones en Proceso | C21: =+SUM(C22:C28) -> 5.963399e+08 | D21: =+SUM(D22:D28) -> 5.4482126e+08
A22: 1231 | B22: Terrenos | C22: 0 | D22: 0
A23: 1232 | B23: Viviendas | C23: 0 | D23: 0
A24: 1233 | B24: Edificios no Habitacionales | C24: 0 | D24: 0
A25: 1234 | B25: Infraestructura | C25: 0 | D25: 0
A26: 1235 | B26: Construcciones en Proceso en Bienes de Dominio Público | C26: 5.8418722e+08 | D26: 5.4417646e+08
A27: 1236 | B27: Construcciones en Proceso en Bienes Propios | C27: 12152686 | D27: 644804.85
A28: 1239 | B28: Otros Bienes Inmuebles | C28: 0 | D28: 0
A29: 1240 | B29: Bienes Muebles | C29: =+SUM(C30:C37) -> 11374334 | D29: =+SUM(D30:D37) -> 1.0786023e+08
A30: 1241 | B30: Mobiliario y Equipo de Administración | C30: 4538593.5 | D30: 33196987
A31: 1242 | B31: Mobiliario y Equipo Educacional y Recreativo | C31: 35598.24 | D31: 6954876.3
A32: 1243 | B32: Equipo e Instrumental Médico y de Laboratorio | C32: 0 | D32: 428758.61
A33: 1244 | B33: Vehículos y Equipo de Transporte | C33: 2331737.6 | D33: 31054226
A34: 1245 | B34: Equipo de Defensa y Seguridad | C34: 0 | D34: 0
A35: 1246 | B35: Maquinaria, Otros Equipos y Herramientas | C35: 4468405 | D35: 36225386
A36: 1247 | B36: Colecciones, Obras de Arte y Objetos Valiosos | C36: 0 | D36: 0
A37: 1248 | B37: Activos Biológicos | C37: 0 | D37: 0
A38: 1250 | B38: Activos Intangibles | C38: =+SUM(C39:C43) -> 0 | D38: =+SUM(D39:D43) -> 3195037.9
A39: 1251 | B39: Software | C39: 0 | D39: 3195037.9
A40: 1252 | B40: Patentes, Marcas y Derechos | C40: 0 | D40: 0
A41: 1253 | B41: Concesiones y Franquicias | C41: 0 | D41: 0
A42: 1254 | B42: Licencias | C42: 0 | D42: 0
A43: 1259 | B43: Otros Activos Intangibles | C43: 0 | D43: 0
...

Sheet Conciliacion_Ig
A1: =ESF!A1 -> Municipio de Chihuahua
A2: Conciliación entre los Ingresos Presupuestarios y Contables
A3: =ESF!A3 -> Del 01 de enero al 30 de septiembre de 2026
A4: (Cifras en pesos)
A5: Concepto | C5: 2026
A6: 1. Total de Ingresos Presupuestarios | C6: 6.4501233e+09
A8: 2. Más Ingresos Contables No Presupuestarios | C8: =SUM(C9:C14) -> 0
A9: 2.1 | B9: Ingresos Financieros | C9: 0
A10: 2.2 | B10: Incremento por Variación de inventarios | C10: 0
A11: 2.3 | B11: Disminución del Exceso de Estimaciones por Pérdida o Deterioro u Obsolescencia | C11: 0
A12: 2.4 | B12: Disminución del Exceso de Provisiones | C12: 0
A13: 2.5 | B13: Otros Ingresos y Beneficios Varios | C13: 0
A14: 2.6 | B14: Otros Ingresos Contables No Presupuestarios | C14: 0
A16: 3. Menos Ingresos Presupuestarios No Contables | C16: =SUM(C17:C19) -> 500000000
A17: 3.1 | B17: Aprovechamientos Patrimoniales | C17: 0
A18: 3.2 | B18: Ingresos Derivados de Financiamientos | C18: 500000000
A19: 3.3 | B19: Otros Ingresos Presupuestarios No Contables | C19: 0
A21: 4. Total de Ingresos Contables | C21: =C6+C8-C16 -> 5.9501233e+09
A23: “Bajo protesta de decir verdad declaramos que los Estados Financieros y sus notas, son razonablemente correctos y son responsabilidad del emisor.”

Sheet Conciliacion_Eg
A1: =ESF!A1 -> Municipio de Chihuahua
A2: Conciliación entre los Egresos Presupuestarios y los Gastos Contables
A3: =ESF!A3 -> Del 01 de enero al 30 de septiembre de 2026
A4: (Cifras en pesos)
A5: Concepto | C5: 2026
A6: 1. Total de Egresos Presupuestarios | C6: 5.7694574e+09
A8: 2. Menos Egresos Presupuestarios No Contables | C8: =SUM(C9:C29) -> 8.6242257e+08
A9: 2.1 | B9: Materias Primas y Materiales de Producción y Comercialización | C9: 0
A10: 2.2 | B10: Materiales y Suministros | C10: 0
A11: 2.3 | B11: Mobiliario y Equipo de Administración | C11: 5617698.6
A12: 2.4 | B12: Mobiliario y Equipo Educacional y Recreativo | C12: 81565.56
A13: 2.5 | B13: Equipo e Instrumental Médico y de Laboratorio | C13: 0
A14: 2.6 | B14: Vehículos y Equipo de Transporte | C14: 3552201.6
A15: 2.7 | B15: Equipo de Defensa y Seguridad | C15: 0
A16: 2.8 | B16: Maquinaria, Otros Equipos y Herramientas | C16: 5037885.7
A17: 2.9 | B17: Activos Biológicos | C17: 0
A18: 2.10 | B18: Bienes Inmuebles | C18: 0
A19: 2.11 | B19: Activos Intangibles | C19: 0
A20: 2.12 | B20: Obra Pública en Bienes de Dominio Público | C20: 6.0944456e+08
A21: 2.13 | B21: Obra Pública en Bienes Propios | C21: 12606663
A22: 2.14 | B22: Acciones y Participaciones de Capital | C22: 0
A23: 2.15 | B23: Compra de Títulos y Valores | C23: 0
A24: 2.16 | B24: Concesión de Préstamos | C24: 0
A25: 2.17 | B25: Inversiones en Fideicomisos, Mandatos y Otros Análogos | C25: 0
A26: 2.18 | B26: Provisiones para Contingencias y Otras Erogaciones Especiales | C26: 0
A27: 2.19 | B27: Amortización de la Deuda Pública | C27: 2.26082e+08
A28: 2.20 | B28: Adeudos de Ejercicios Fiscales Anteriores (ADEFAS) | C28: 0
A29: 2.21 | B29: Otros Egresos Presupuestarios No Contables | C29: 0
A31: 3. Más Gastos Contables No Presupuestarios | C31: =SUM(C32:C38) -> 65865168
A32: 3.1 | B32: Estimaciones, Depreciaciones, Deterioros, Obsolescencia y Amortizaciones | C32: 59985710
A33: 3.2 | B33: Provisiones | C33: 0
A34: 3.3 | B34: Disminución de Inventarios | C34: 0
A35: 3.4 | B35: Otros Gastos | C35: 0
A36: 3.5 | B36: Inversión Pública no Capitalizable | C36: 5879457.4
A37: 3.6 | B37: Materiales y Suministros (consumos) | C37: 0
A38: 3.7 | B38: Otros Gastos Contables No Presupuestarios | C38: 0
A40: 4. Total de Gastos Contables | C40: =C6-C8+C31 -> 4.9728999e+09
A42: “Bajo protesta de decir verdad declaramos que los Estados Financieros y sus notas, son razonablemente correctos y son responsabilidad del emisor.”
